BEGIN:VCALENDAR
VERSION:2.0
PRODID:-//wp-events-plugin.com//5.99912//EN
TZID:Europe/Berlin
X-WR-TIMEZONE:Europe/Berlin
BEGIN:VEVENT
UID:0-536@schwaebischgmuend.albverein.eu
DTSTART;TZID=Europe/Berlin:20260704T063000
DTEND;TZID=Europe/Berlin:20260704T203000
DTSTAMP:20251205T091626Z
URL:https://schwaebischgmuend.albverein.eu/events/busausfahrt-bad-hindelan
 g/
SUMMARY:Busausfahrt Bad Hindelang
DESCRIPTION:Eine genauere Beschreibung und Anforderungen befindet sich auf 
 einem gesonderten Flyer.\n\nTour 1: Panoramatour Bad Hindelang: 10 km\, 30
 0 hm\, 3\,5 h\nleicht bis mittel\, WF: Sonja und Gerhard Steiner\nTour 2: 
 Auf das Wertacher Hörnle: 9\,5 km\, 650 hm\, 5 h\nmittel\, gute Kondition
 \, WF: Sylvia Hägele\, Claus Kuhnigk\nTour 3: Aussichtsreiche Gipfeltour 
 am Spieser: 12 km\, 740 hm\, 5 h\nmittel\, gute Kondition\, Trittsicherhei
 t\,\nWF: Andreas Müller\, Joachim Wagner\nTour 4: Gratgang über Kühgund
 kopf und Iseler: 9\,9 km\, 825 hm\, 4\,5 h\nschwer\, trittsicher und schwi
 ndelfrei\,\nWF: Elisabeth Müller\, Hans-Joachim Abele\n\nFür alle Wander
 ungen gilt:\nTeilnehmerbetrag: 25 Euro\, Nichtmitglieder 30 Euro\nMitzubri
 ngen sind Getränke\, Rucksackvesper\, Bergstiefel und wetterfeste Kleidun
 g\nAbfahrt: 6:30\, Rückkehr: 20:30\nAnmeldungen bei: Sylvia Hägele bis 2
 8.2.2026\nTel: 07171/86789 Email: sylviahaegele@freenet.de\n\n&nbsp\;\n\n&
 nbsp\;\n\n&nbsp\;
LOCATION:Parkplatz St. Katharina\, Schwerzerallee\, Schwäbisch Gmünd\, 73
 525\, Deutschland
GEO:48.796061;9.785399
X-APPLE-STRUCTURED-LOCATION;VALUE=URI;X-ADDRESS=Schwerzerallee\, Schwäbisc
 h Gmünd\, 73525\, Deutschland;X-APPLE-RADIUS=100;X-TITLE=Parkplatz St. Ka
 tharina:geo:48.796061,9.785399
END:VEVENT
BEGIN:VTIMEZONE
TZID:Europe/Berlin
X-LIC-LOCATION:Europe/Berlin
BEGIN:DAYLIGHT
DTSTART:20260329T030000
TZOFFSETFROM:+0100
TZOFFSETTO:+0200
TZNAME:CEST
END:DAYLIGHT
END:VTIMEZONE
END:VCALENDAR