BEGIN:VCALENDAR
VERSION:2.0
PRODID:-//wp-events-plugin.com//5.99912//EN
TZID:Europe/Berlin
X-WR-TIMEZONE:Europe/Berlin
BEGIN:VEVENT
UID:0-544@schwaebischgmuend.albverein.eu
DTSTART;TZID=Europe/Berlin:20260926T130000
DTEND;TZID=Europe/Berlin:20260927T170000
DTSTAMP:20251205T083346Z
URL:https://schwaebischgmuend.albverein.eu/events/fg-biwaktour-2/
SUMMARY:FG: Biwaktour
DESCRIPTION:Ein Rucksack alles drin. Wir wandern zwei Tage und übernacht
 en unter freiem Himmel!\n1. Tag: 10 km\, 500 hm\, 3\,5 Std\n2. Tag: 9 km\,
  200 hm\, 2\,5 Std\nJoachim Wagner Tel. 07171/66787
LOCATION:Bahnhof Schwäbisch Gmünd\, Bahnhofplatz\, Schwäbisch Gmünd\, 7
 3252\, Deutschland
GEO:48.800706;9.789086
X-APPLE-STRUCTURED-LOCATION;VALUE=URI;X-ADDRESS=Bahnhofplatz\, Schwäbisch 
 Gmünd\, 73252\, Deutschland;X-APPLE-RADIUS=100;X-TITLE=Bahnhof Schwäbisc
 h Gmünd:geo:48.800706,9.789086
END:VEVENT
BEGIN:VTIMEZONE
TZID:Europe/Berlin
X-LIC-LOCATION:Europe/Berlin
BEGIN:DAYLIGHT
DTSTART:20260329T030000
TZOFFSETFROM:+0100
TZOFFSETTO:+0200
TZNAME:CEST
END:DAYLIGHT
END:VTIMEZONE
END:VCALENDAR