BEGIN:VCALENDAR
VERSION:2.0
PRODID:-//wp-events-plugin.com//5.99912//EN
TZID:Europe/Berlin
X-WR-TIMEZONE:Europe/Berlin
BEGIN:VEVENT
UID:0-545@schwaebischgmuend.albverein.eu
DTSTART;TZID=Europe/Berlin:20261017T130000
DTEND;TZID=Europe/Berlin:20261017T160000
DTSTAMP:20251205T083618Z
URL:https://schwaebischgmuend.albverein.eu/events/fg-wir-sammeln-pilze-3/
SUMMARY:FG: Wir sammeln Pilze
DESCRIPTION:und bereiten die essbaren zu einem schmackhaften Gericht.\nAuf 
 vielfachen Wunsch wiederholen wir unseren Spaziergang im Wald.\nInfo und A
 nmeldung\nUli Maier Tel. 0157-56468288
LOCATION:Parkplatz St. Katharina\, Schwerzerallee\, Schwäbisch Gmünd\, 73
 525\, Deutschland
GEO:48.796061;9.785399
X-APPLE-STRUCTURED-LOCATION;VALUE=URI;X-ADDRESS=Schwerzerallee\, Schwäbisc
 h Gmünd\, 73525\, Deutschland;X-APPLE-RADIUS=100;X-TITLE=Parkplatz St. Ka
 tharina:geo:48.796061,9.785399
END:VEVENT
BEGIN:VTIMEZONE
TZID:Europe/Berlin
X-LIC-LOCATION:Europe/Berlin
BEGIN:DAYLIGHT
DTSTART:20260329T030000
TZOFFSETFROM:+0100
TZOFFSETTO:+0200
TZNAME:CEST
END:DAYLIGHT
END:VTIMEZONE
END:VCALENDAR