BEGIN:VCALENDAR
VERSION:2.0
PRODID:-//wp-events-plugin.com//5.99912//EN
TZID:Europe/Berlin
X-WR-TIMEZONE:Europe/Berlin
BEGIN:VEVENT
UID:0-543@schwaebischgmuend.albverein.eu
DTSTART;TZID=Europe/Berlin:20260627T090000
DTEND;TZID=Europe/Berlin:20260628T160000
DTSTAMP:20251205T083044Z
URL:https://schwaebischgmuend.albverein.eu/events/huettentour-zur-rohrauer
 -huette-bei-bad-urach/
SUMMARY:FG: Hüttentour zur Rohrauer Hütte bei Bad Urach
DESCRIPTION:Alles kommt in einen Rucksack und wir wandern 2 Tage mit Hüt
 tenübernachtung.\nAnmeldung bis 31. Januar\n1. Tag: 18 km\, 740 hm\, 6 
 Std\n2. Tag: 13 km\, 350 hm\, 4 Std\nAndreas Mller Tel. 07176/452939\nJo
 achim Wagner Tel. 07171/66787
LOCATION:Parkplatz St. Katharina\, Schwerzerallee\, Schwäbisch Gmünd\, 73
 525\, Deutschland
GEO:48.796061;9.785399
X-APPLE-STRUCTURED-LOCATION;VALUE=URI;X-ADDRESS=Schwerzerallee\, Schwäbisc
 h Gmünd\, 73525\, Deutschland;X-APPLE-RADIUS=100;X-TITLE=Parkplatz St. Ka
 tharina:geo:48.796061,9.785399
END:VEVENT
BEGIN:VTIMEZONE
TZID:Europe/Berlin
X-LIC-LOCATION:Europe/Berlin
BEGIN:DAYLIGHT
DTSTART:20260329T030000
TZOFFSETFROM:+0100
TZOFFSETTO:+0200
TZNAME:CEST
END:DAYLIGHT
END:VTIMEZONE
END:VCALENDAR