BEGIN:VCALENDAR
VERSION:2.0
PRODID:-//wp-events-plugin.com//5.99912//EN
TZID:Europe/Berlin
X-WR-TIMEZONE:Europe/Berlin
BEGIN:VEVENT
UID:0-540@schwaebischgmuend.albverein.eu
DTSTART;TZID=Europe/Berlin:20261025T090500
DTEND;TZID=Europe/Berlin:20261025T163000
DTSTAMP:20251205T082210Z
URL:https://schwaebischgmuend.albverein.eu/events/spuren-der-staufer-zu-be
 ginn-des-hw7/
SUMMARY:Spuren der Staufer zu Beginn des HW7
DESCRIPTION:Bahnhof Lorch - Kloster Lorch - Lorch - Wäscherschloss - Mai
 tis - Hohenstaufen - Spielburg - Wäschenbeuren\n16\,6 km\, 550 hm\, 6 S
 td\nHans-Joachim Abele Tel. 07171 83706\nElisabeth Mller Tel. 0151-28241
 438
LOCATION:Bahnhof Lorch\, Bahnhof\, Lorch\, 73547\, Deutschland
X-APPLE-STRUCTURED-LOCATION;VALUE=URI;X-ADDRESS=Bahnhof\, Lorch\, 73547\, D
 eutschland;X-APPLE-RADIUS=100;X-TITLE=Bahnhof Lorch:geo:0,0
END:VEVENT
BEGIN:VTIMEZONE
TZID:Europe/Berlin
X-LIC-LOCATION:Europe/Berlin
BEGIN:STANDARD
DTSTART:20261025T020000
TZOFFSETFROM:+0200
TZOFFSETTO:+0100
TZNAME:CET
END:STANDARD
END:VTIMEZONE
END:VCALENDAR