BEGIN:VCALENDAR
VERSION:2.0
PRODID:-//wp-events-plugin.com//5.99912//EN
TZID:Europe/Berlin
X-WR-TIMEZONE:Europe/Berlin
BEGIN:VEVENT
UID:0-525@schwaebischgmuend.albverein.eu
DTSTART;TZID=Europe/Berlin:20260808T100000
DTEND;TZID=Europe/Berlin:20260808T160000
DTSTAMP:20260129T163341Z
URL:https://schwaebischgmuend.albverein.eu/events/von-einsamen-waldeshoehn
 -zu-weissen-wassern/
SUMMARY:Von einsamen Waldeshöhn zu "weißen" Wassern
DESCRIPTION:ACHTUNG: wurde verschoben vom 7.2.26 auf den 8.8.26!\n\nParkpla
 tz Brastelburg - Gräbleshau - Giggele - Härtsfeldbahn-Viadukt\nWeiß
 er Kocher - Kocherburg - Ursprungfels - Brastelburg\n12 km\, 400 hm\, 4 St
 d\nHans-Joachim Abele Tel. 07171 83706
LOCATION:Parkplatz St. Katharina\, Schwerzerallee\, Schwäbisch Gmünd\, 73
 525\, Deutschland
GEO:48.796061;9.785399
X-APPLE-STRUCTURED-LOCATION;VALUE=URI;X-ADDRESS=Schwerzerallee\, Schwäbisc
 h Gmünd\, 73525\, Deutschland;X-APPLE-RADIUS=100;X-TITLE=Parkplatz St. Ka
 tharina:geo:48.796061,9.785399
END:VEVENT
BEGIN:VTIMEZONE
TZID:Europe/Berlin
X-LIC-LOCATION:Europe/Berlin
BEGIN:DAYLIGHT
DTSTART:20260329T030000
TZOFFSETFROM:+0100
TZOFFSETTO:+0200
TZNAME:CEST
END:DAYLIGHT
END:VTIMEZONE
END:VCALENDAR