BEGIN:VCALENDAR
VERSION:2.0
PRODID:-//wp-events-plugin.com//5.99912//EN
TZID:Europe/Berlin
X-WR-TIMEZONE:Europe/Berlin
BEGIN:VEVENT
UID:0-539@schwaebischgmuend.albverein.eu
DTSTART;TZID=Europe/Berlin:20261010T064500
DTEND;TZID=Europe/Berlin:20261010T180000
DTSTAMP:20251205T081858Z
URL:https://schwaebischgmuend.albverein.eu/events/von-geislingen-nach-gmue
 nd/
SUMMARY:Von Geislingen nach Gmünd
DESCRIPTION:Mit dem Zug nach Geislingen.\nZurück müssen wir es dann s
 elber schaffen!\n32 km\, 800 hm\, 9\,5 Std\nAndreas Müller Tel. 07176/4
 52939\nJoachim Wagner Tel. 07171/66787
LOCATION:Bahnhof Schwäbisch Gmünd\, Bahnhofplatz\, Schwäbisch Gmünd\, 7
 3252\, Deutschland
GEO:48.800706;9.789086
X-APPLE-STRUCTURED-LOCATION;VALUE=URI;X-ADDRESS=Bahnhofplatz\, Schwäbisch 
 Gmünd\, 73252\, Deutschland;X-APPLE-RADIUS=100;X-TITLE=Bahnhof Schwäbisc
 h Gmünd:geo:48.800706,9.789086
END:VEVENT
BEGIN:VTIMEZONE
TZID:Europe/Berlin
X-LIC-LOCATION:Europe/Berlin
BEGIN:DAYLIGHT
DTSTART:20260329T030000
TZOFFSETFROM:+0100
TZOFFSETTO:+0200
TZNAME:CEST
END:DAYLIGHT
END:VTIMEZONE
END:VCALENDAR