BEGIN:VCALENDAR
VERSION:2.0
PRODID:-//wp-events-plugin.com//5.99912//EN
TZID:Europe/Berlin
X-WR-TIMEZONE:Europe/Berlin
BEGIN:VEVENT
UID:0-541@schwaebischgmuend.albverein.eu
DTSTART;TZID=Europe/Berlin:20261114T100000
DTEND;TZID=Europe/Berlin:20261114T160000
DTSTAMP:20251205T082501Z
URL:https://schwaebischgmuend.albverein.eu/events/zu-einst-wehrhaften-burg
 en-ueber-lauter-und-fils/
SUMMARY:Zu einst wehrhaften Burgen über Lauter und Fils
DESCRIPTION:Reichenbach u.R. - Schillingshof - Bärenbach - Burg Staufene
 ck -\nBurgkapelle Ramsberg - Reichenbach u.R.\n14\,7 km\, 350 hm\, 5 Std\n
 Hans-Joachim Abele Tel. 07171 83706
LOCATION:Parkplatz St. Katharina\, Schwerzerallee\, Schwäbisch Gmünd\, 73
 525\, Deutschland
GEO:48.796061;9.785399
X-APPLE-STRUCTURED-LOCATION;VALUE=URI;X-ADDRESS=Schwerzerallee\, Schwäbisc
 h Gmünd\, 73525\, Deutschland;X-APPLE-RADIUS=100;X-TITLE=Parkplatz St. Ka
 tharina:geo:48.796061,9.785399
END:VEVENT
BEGIN:VTIMEZONE
TZID:Europe/Berlin
X-LIC-LOCATION:Europe/Berlin
BEGIN:STANDARD
DTSTART:20261025T020000
TZOFFSETFROM:+0200
TZOFFSETTO:+0100
TZNAME:CET
END:STANDARD
END:VTIMEZONE
END:VCALENDAR